BEGIN:VCALENDAR
VERSION:2.0
PRODID:-//Tátové &amp; Synové - ECPv6.15.20//NONSGML v1.0//EN
CALSCALE:GREGORIAN
METHOD:PUBLISH
X-WR-CALNAME:Tátové &amp; Synové
X-ORIGINAL-URL:https://www.tatoveasynove.cz
X-WR-CALDESC:Akce na Tátové &amp; Synové
REFRESH-INTERVAL;VALUE=DURATION:PT1H
X-Robots-Tag:noindex
X-PUBLISHED-TTL:PT1H
BEGIN:VTIMEZONE
TZID:Europe/Prague
BEGIN:DAYLIGHT
TZOFFSETFROM:+0100
TZOFFSETTO:+0200
TZNAME:CEST
DTSTART:20220327T010000
END:DAYLIGHT
BEGIN:STANDARD
TZOFFSETFROM:+0200
TZOFFSETTO:+0100
TZNAME:CET
DTSTART:20221030T010000
END:STANDARD
BEGIN:DAYLIGHT
TZOFFSETFROM:+0100
TZOFFSETTO:+0200
TZNAME:CEST
DTSTART:20230326T010000
END:DAYLIGHT
BEGIN:STANDARD
TZOFFSETFROM:+0200
TZOFFSETTO:+0100
TZNAME:CET
DTSTART:20231029T010000
END:STANDARD
BEGIN:DAYLIGHT
TZOFFSETFROM:+0100
TZOFFSETTO:+0200
TZNAME:CEST
DTSTART:20240331T010000
END:DAYLIGHT
BEGIN:STANDARD
TZOFFSETFROM:+0200
TZOFFSETTO:+0100
TZNAME:CET
DTSTART:20241027T010000
END:STANDARD
END:VTIMEZONE
BEGIN:VEVENT
DTSTART;TZID=Europe/Prague:20230224T180000
DTEND;TZID=Europe/Prague:20230226T160000
DTSTAMP:20260426T013156
CREATED:20230103T140638Z
LAST-MODIFIED:20250226T150127Z
UID:13945-1677261600-1677427200@www.tatoveasynove.cz
SUMMARY:Goodmani na běžky nebo pěšky
DESCRIPTION:Chceš prožít s partou chlapů\, mužů\, kluků\, tátů a synů perfektní víkend na horách? Máš rád běžkování a tetelíš se blahem\, když se ploužíš na běžkách nebo pěšky zasněženou krajinou a lesem? A když vidíš sníh\, tak se prostě musíš začít koulovat a vyblbnout se? Hmm… tak neváhej. Tohle je akce přesně pro tebe.\n\nI když je letos zima spíš ve fázi fantazie a na běžkařských trasách zatím rostou letničky\, věříme\, že letos ještě sníh napadne a vyběhneme společně na běžky. Proto pořád věříme a plánujeme tento běžkařský víkend. Zatím nevíme přesně kam\, ale víme\, že cíl bude parádní a tak trochu opředený tajemstvím. Začni s námi psát historii zimních goodmanovských akcí „Ve stopě“ a pojeď s námi.\n\n \nPro koho je akce určena?\n\n 	Pro všechny chlapy\, kluci od 12-13 let. Pojeď sám\, nebo ve dvojici/trojici se svým tátou nebo synem/syny. Vezmi s sebou  kámoše\, strejdu nebo dědu.\n 	Pro ty chlapy\, kteří již běžky na sobě měli někdy obuté a nějakou stopu už mají za sebou (budeme tak cca 6 hodin ve stopě).\n\n \nMistrovství – tréninky:\nJaké goodmanovské disciplíny na akci potrénujeme?\n\n 	běh\, chůze a skluz na běžkách\n 	kartičky mistrovství (švihadlo\, sedlehy\, kliky\, dřepy\, prkno)\n 	mistrovství na doma: Goodmanovská Padina\n\n \nCo na akci zažijeme?\nJako na každé goodmanovské akci je vše dobrovolné. I když\, jak už z pojetí akce je zřejmé\, běžkování vlastně povinné je 🙂 Ale neboj\, nebudeme trhat rekordy. Prostě se přizpůsobíme všem účastníkům a v klidu po-běžkujeme ve stopě s potřebným množstvím zastávek. I tak se určitě zpotíme dost a dost. Zažijeme určitě:\n\n 	Celodenní výlet na běžkách horskou přírodou (od světla – do světla)\, s jasným cílem a překvapením.\n 	Na výletě budeme plnit řadu úkolů v rámci únikovky v přírodě.\n 	Probuzení kluka v každém z nás\, ideálně s koulí v ruce a v pořádné koulovací bitvě.\n 	Poznání party skvělých chlapů a kluků\, při společných hrách\, kvízech a vaření společných jídel.\n 	Běžkařskou sranda pidi-olympiádu.\n 	A mnoho dalšího.\n\n \nKam pojedeme\, co ubytování a jídlo?\n\n 	Na horskou chatu do Rokytnice nad Jizerou\, na Studenov. Bude to klasické horské ubytování. Chatu budeme mít celou pro sebe. Jelikož budeme na běžkách\, je to horská chata na stopě.\n 	Vařit si budeme sami. Věříme\, že společné chlapské vaření na horskou chatu prostě patří. Všechny potřebné suroviny pro páteční až nedělní jídla přivezeme. Nemusíte nic kupovat. A dobroty to budou náramné.\n 	Oběd v rámci sobotního výletu zvládneme na trase v nějaké horské chatě. Toto jídlo není zahrnuté v ceně akce.\n\n \nCo je potřeba s sebou?\n\n 	14 dní před akcí vám pošleme přesné instrukce\, kde budete mít uvedené i všechno základní potřebné vybavení.\n 	Běžky + potřebné běžkařské vybavení a oblečení. Počítejte s každou alternativou počasí.\n 	Budeme hodně venku\, tak hodně teplého oblečení\, rukavic\, ponožek a možná i náhradní boty do nepohody.\n\n \nCena a přihlášení na akci\n\n 	Cena za program 1.500 Kč / první osobu. Další osoby s vámi (syn\, kámoš\, táta\, děda\, strejda…) 1.000 Kč / osobu.\n 	Ubytování na horách a strava cca 2.000 Kč / osobu.\n 	Místo konání: Rokytnice nad Jizerou\, Studenov. Bývalá chata Spojů. V instrukcích pak pošleme přesnou trasu\, jak se k chatě dostanete. Podle sněhu se dá dojet autem skoro až k chatě (cca 200 metrů od ní).\n 	Pro přihlášení na akci vyplňte níže uvedený přihlašovací formulář. Potřebujeme u každého účastníka akce vyplnit údaje: jméno a příjmení\, datum narození\, velikost trika\, zdravotní či stravovací omezení (pokud nějaká jsou) a kontaktní e-mail a telefon. Po odeslání přihlášky vám budeme místo na akci rezervovat a pošleme vám podrobné informace k platbě.\n\nTěšíme se na vás chlapi. Goodmani Standa a Jířa
URL:https://www.tatoveasynove.cz/akce/goodmani-ve-stope-aneb-kazdorocni-bezkovana/
LOCATION:Chata Spoje\, Rokytnice\, Hranice 48\, Rokytnice nad Jizerou\, Liberecký kraj\, 512 44\, Česká republika
CATEGORIES:Společenství mužů,Sportování,Táta a syn
ATTACH;FMTTYPE=image/jpeg:https://www.tatoveasynove.cz/wp-content/uploads/2023/01/goodman-akce-bezky-snih-scaled-e1740582111988.jpeg
ORGANIZER;CN="T%C3%A1tov%C3%A9 a synov%C3%A9%2C z.s.":MAILTO:standa@tatoveasynove.cz
END:VEVENT
END:VCALENDAR